BEGIN:VCALENDAR
VERSION:2.0
PRODID:-//Urban Runner//Events//EN
CALSCALE:GREGORIAN
METHOD:PUBLISH
BEGIN:VEVENT
UID:evt_003@urbanrunner.org.uk
DTSTAMP:20260422T030956Z
DTSTART:20260831T103000
DTEND:20260831T113000
SUMMARY:ELVIS – Barking Park (Phipps 5K)
END:VEVENT
END:VCALENDAR
