BEGIN:VCALENDAR
VERSION:2.0
PRODID:-//Urban Runner//Events//EN
CALSCALE:GREGORIAN
METHOD:PUBLISH
BEGIN:VEVENT
UID:evt_004@urbanrunner.org.uk
DTSTAMP:20260422T030956Z
DTSTART:20260906T090000
DTEND:20260906T120000
SUMMARY:The Big Half – London
END:VEVENT
END:VCALENDAR
