BEGIN:VCALENDAR
VERSION:2.0
PRODID:-//Urban Runner//Events//EN
CALSCALE:GREGORIAN
METHOD:PUBLISH
BEGIN:VEVENT
UID:evt_005@urbanrunner.org.uk
DTSTAMP:20260422T030842Z
DTSTART:20260913T093000
DTEND:20260913T123000
SUMMARY:Bacchus 10K & Half Marathon 🍇
LOCATION:Denbies Wine Estate
END:VEVENT
END:VCALENDAR
