BEGIN:VCALENDAR
VERSION:2.0
PRODID:-//Urban Runner//Events//EN
CALSCALE:GREGORIAN
METHOD:PUBLISH
BEGIN:VEVENT
UID:evt_006@urbanrunner.org.uk
DTSTAMP:20260422T030939Z
DTSTART:20260927T093000
DTEND:20260927T113000
SUMMARY:Vitality London 10K
END:VEVENT
END:VCALENDAR
