BEGIN:VCALENDAR
VERSION:2.0
PRODID:-//Urban Runner//Events//EN
CALSCALE:GREGORIAN
METHOD:PUBLISH
BEGIN:VEVENT
UID:evt_sitc_2026@urbanrunner.org.uk
DTSTAMP:20260422T031123Z
DTSTART:20260628T100000
DTEND:20260628T180000
SUMMARY:SITC Summer Samosa Relay 🫓
LOCATION:Teresa Gavin House, Woodford Green, IG8 8FA
DESCRIPTION:Urban Runner team relay entry — 5 runners × 10km. See the SITC page for team sign-up.
URL:https://www.evententry.co.uk/sikhs-in-the-city-summer-samosa-ultra-2026
END:VEVENT
END:VCALENDAR
