BEGIN:VCALENDAR
VERSION:2.0
PRODID:-//Urban Runner//Events//EN
CALSCALE:GREGORIAN
METHOD:PUBLISH
BEGIN:VEVENT
UID:evt_spitfire_2026@urbanrunner.org.uk
DTSTAMP:20260422T031123Z
DTSTART:20260711T120000
DTEND:20260711T122400
SUMMARY:Spitfire Scramble 2026
LOCATION:Albyns Farm, South End Road, RM13 7YH
DESCRIPTION:24-hour multi-terrain team relay. Urban Runner entering small team (3–5 runners). 5.75-mile laps.
URL:https://www.spitfirescramble.co.uk/
END:VEVENT
END:VCALENDAR
